Workbook
Name drugs: Key!$A$13:$B$191

Sheet Lab Info
A1: PISS Challenge Report Form 2026 B
A4: Lab Name | D4: :
A6: CLIA Number | D6: :
A8: Received Date | D8: :
A10: Analysis Date | D10: :
A12: Report Date | D12: :
A14: Analyst(s) | D14: :

Sheet Key
A1: Tip: Use the filter to isolate the analytes that your lab tests for out of the full list
A5: In order to report, find the tab with the name of the sample you want to add results for. Add the corresponding code of the analyte that you want to report. Add the numeric value if you are reporting quantitatively. If you want to report a qualitative postive type the plus sign (+). Only positives need to be reported.
A12: Code | B12: Analyte
A13: 1 | B13: 10-Hydroxycarbamazepine
A14: 2 | B14: 2-Hydroxyethylflurazepam
A15: 3 | B15: 4-hydroxyxylazine
A16: 4 | B16: 6-Acetylcodeine
A17: 5 | B17: 6a-Naloxol
A18: 6 | B18: 6-MAM
A19: 7 | B19: 7-Aminoclonazepam
A20: 8 | B20: 7-Aminoflunitrazepam
A21: 9 | B21: 7-Hydroxymitragynine
A22: 10 | B22: 7-Hydroxyquetiapine
A23: 11 | B23: 9-Hydroxyrisperidone
A24: 12 | B24: AB-CHMINACA M1A
... A190: 178 | B190: Zopiclone

Sheet ISS-101
A1: {=MID(CELL("filename",A1),FIND("]",CELL("filename",A1))+1,255)} -> ISS-101
A4: Drug Code | B4: Drug Name | C4: Concentration (ng/mL)
B5: =IFERROR(VLOOKUP(A5, drugs, 2), "---") -> ---
B6: =IFERROR(VLOOKUP(A6, drugs, 2), "---") -> ---
B7: =IFERROR(VLOOKUP(A7, drugs, 2), "---") -> ---
B8: =IFERROR(VLOOKUP(A8, drugs, 2), "---") -> ---
B9: =IFERROR(VLOOKUP(A9, drugs, 2), "---") -> ---
B10: =IFERROR(VLOOKUP(A10, drugs, 2), "---") -> ---
B11: =IFERROR(VLOOKUP(A11, drugs, 2), "---") -> ---
B12: =IFERROR(VLOOKUP(A12, drugs, 2), "---") -> ---
B13: =IFERROR(VLOOKUP(A13, drugs, 2), "---") -> ---
B14: =IFERROR(VLOOKUP(A14, drugs, 2), "---") -> ---
B15: =IFERROR(VLOOKUP(A15, drugs, 2), "---") -> ---
B16: =IFERROR(VLOOKUP(A16, drugs, 2), "---") -> ---
... B50: =IFERROR(VLOOKUP(A50, drugs, 2), "---") -> ---

Sheet ISS-102
A1: {=MID(CELL("filename",A1),FIND("]",CELL("filename",A1))+1,255)} -> ISS-102
A4: Drug Code | B4: Drug Name | C4: Concentration (ng/mL)
B5: =IFERROR(VLOOKUP(A5, drugs, 2), "---") -> ---
B6: =IFERROR(VLOOKUP(A6, drugs, 2), "---") -> ---
B7: =IFERROR(VLOOKUP(A7, drugs, 2), "---") -> ---
B8: =IFERROR(VLOOKUP(A8, drugs, 2), "---") -> ---
B9: =IFERROR(VLOOKUP(A9, drugs, 2), "---") -> ---
B10: =IFERROR(VLOOKUP(A10, drugs, 2), "---") -> ---
B11: =IFERROR(VLOOKUP(A11, drugs, 2), "---") -> ---
B12: =IFERROR(VLOOKUP(A12, drugs, 2), "---") -> ---
B13: =IFERROR(VLOOKUP(A13, drugs, 2), "---") -> ---
B14: =IFERROR(VLOOKUP(A14, drugs, 2), "---") -> ---
B15: =IFERROR(VLOOKUP(A15, drugs, 2), "---") -> ---
B16: =IFERROR(VLOOKUP(A16, drugs, 2), "---") -> ---
... B50: =IFERROR(VLOOKUP(A50, drugs, 2), "---") -> ---

Sheet ISS-103
A1: {=MID(CELL("filename",A1),FIND("]",CELL("filename",A1))+1,255)} -> ISS-103
A4: Drug Code | B4: Drug Name | C4: Concentration (ng/mL)
B5: =IFERROR(VLOOKUP(A5, drugs, 2), "---") -> ---
B6: =IFERROR(VLOOKUP(A6, drugs, 2), "---") -> ---
B7: =IFERROR(VLOOKUP(A7, drugs, 2), "---") -> ---
B8: =IFERROR(VLOOKUP(A8, drugs, 2), "---") -> ---
B9: =IFERROR(VLOOKUP(A9, drugs, 2), "---") -> ---
B10: =IFERROR(VLOOKUP(A10, drugs, 2), "---") -> ---
B11: =IFERROR(VLOOKUP(A11, drugs, 2), "---") -> ---
B12: =IFERROR(VLOOKUP(A12, drugs, 2), "---") -> ---
B13: =IFERROR(VLOOKUP(A13, drugs, 2), "---") -> ---
B14: =IFERROR(VLOOKUP(A14, drugs, 2), "---") -> ---
B15: =IFERROR(VLOOKUP(A15, drugs, 2), "---") -> ---
B16: =IFERROR(VLOOKUP(A16, drugs, 2), "---") -> ---
... B50: =IFERROR(VLOOKUP(A50, drugs, 2), "---") -> ---

Sheet ISS-104
A1: {=MID(CELL("filename",A1),FIND("]",CELL("filename",A1))+1,255)} -> ISS-104
A4: Drug Code | B4: Drug Name | C4: Concentration (ng/mL)
B5: =IFERROR(VLOOKUP(A5, drugs, 2), "---") -> ---
B6: =IFERROR(VLOOKUP(A6, drugs, 2), "---") -> ---
B7: =IFERROR(VLOOKUP(A7, drugs, 2), "---") -> ---
B8: =IFERROR(VLOOKUP(A8, drugs, 2), "---") -> ---
B9: =IFERROR(VLOOKUP(A9, drugs, 2), "---") -> ---
B10: =IFERROR(VLOOKUP(A10, drugs, 2), "---") -> ---
B11: =IFERROR(VLOOKUP(A11, drugs, 2), "---") -> ---
B12: =IFERROR(VLOOKUP(A12, drugs, 2), "---") -> ---
B13: =IFERROR(VLOOKUP(A13, drugs, 2), "---") -> ---
B14: =IFERROR(VLOOKUP(A14, drugs, 2), "---") -> ---
B15: =IFERROR(VLOOKUP(A15, drugs, 2), "---") -> ---
B16: =IFERROR(VLOOKUP(A16, drugs, 2), "---") -> ---
... B50: =IFERROR(VLOOKUP(A50, drugs, 2), "---") -> ---

Sheet ISS-105
A1: {=MID(CELL("filename",A1),FIND("]",CELL("filename",A1))+1,255)} -> ISS-105
A4: Drug Code | B4: Drug Name | C4: Concentration (ng/mL)
B5: =IFERROR(VLOOKUP(A5, drugs, 2), "---") -> ---
B6: =IFERROR(VLOOKUP(A6, drugs, 2), "---") -> ---
B7: =IFERROR(VLOOKUP(A7, drugs, 2), "---") -> ---
B8: =IFERROR(VLOOKUP(A8, drugs, 2), "---") -> ---
B9: =IFERROR(VLOOKUP(A9, drugs, 2), "---") -> ---
B10: =IFERROR(VLOOKUP(A10, drugs, 2), "---") -> ---
B11: =IFERROR(VLOOKUP(A11, drugs, 2), "---") -> ---
B12: =IFERROR(VLOOKUP(A12, drugs, 2), "---") -> ---
B13: =IFERROR(VLOOKUP(A13, drugs, 2), "---") -> ---
B14: =IFERROR(VLOOKUP(A14, drugs, 2), "---") -> ---
B15: =IFERROR(VLOOKUP(A15, drugs, 2), "---") -> ---
B16: =IFERROR(VLOOKUP(A16, drugs, 2), "---") -> ---
... B50: =IFERROR(VLOOKUP(A50, drugs, 2), "---") -> ---

Sheet ISS-106
A1: {=MID(CELL("filename",A1),FIND("]",CELL("filename",A1))+1,255)} -> ISS-106
A4: Drug Code | B4: Drug Name | C4: Concentration (ng/mL)
B5: =IFERROR(VLOOKUP(A5, drugs, 2), "---") -> ---
B6: =IFERROR(VLOOKUP(A6, drugs, 2), "---") -> ---
B7: =IFERROR(VLOOKUP(A7, drugs, 2), "---") -> ---
B8: =IFERROR(VLOOKUP(A8, drugs, 2), "---") -> ---
B9: =IFERROR(VLOOKUP(A9, drugs, 2), "---") -> ---
B10: =IFERROR(VLOOKUP(A10, drugs, 2), "---") -> ---
B11: =IFERROR(VLOOKUP(A11, drugs, 2), "---") -> ---
B12: =IFERROR(VLOOKUP(A12, drugs, 2), "---") -> ---
B13: =IFERROR(VLOOKUP(A13, drugs, 2), "---") -> ---
B14: =IFERROR(VLOOKUP(A14, drugs, 2), "---") -> ---
B15: =IFERROR(VLOOKUP(A15, drugs, 2), "---") -> ---
B16: =IFERROR(VLOOKUP(A16, drugs, 2), "---") -> ---
... B50: =IFERROR(VLOOKUP(A50, drugs, 2), "---") -> ---

Sheet ISS-107
A1: {=MID(CELL("filename",A1),FIND("]",CELL("filename",A1))+1,255)} -> ISS-107
A4: Drug Code | B4: Drug Name | C4: Concentration (ng/mL)
B5: =IFERROR(VLOOKUP(A5, drugs, 2), "---") -> ---
B6: =IFERROR(VLOOKUP(A6, drugs, 2), "---") -> ---
B7: =IFERROR(VLOOKUP(A7, drugs, 2), "---") -> ---
B8: =IFERROR(VLOOKUP(A8, drugs, 2), "---") -> ---
B9: =IFERROR(VLOOKUP(A9, drugs, 2), "---") -> ---
B10: =IFERROR(VLOOKUP(A10, drugs, 2), "---") -> ---
B11: =IFERROR(VLOOKUP(A11, drugs, 2), "---") -> ---
B12: =IFERROR(VLOOKUP(A12, drugs, 2), "---") -> ---
B13: =IFERROR(VLOOKUP(A13, drugs, 2), "---") -> ---
B14: =IFERROR(VLOOKUP(A14, drugs, 2), "---") -> ---
B15: =IFERROR(VLOOKUP(A15, drugs, 2), "---") -> ---
B16: =IFERROR(VLOOKUP(A16, drugs, 2), "---") -> ---
... B50: =IFERROR(VLOOKUP(A50, drugs, 2), "---") -> ---

Sheet ISS-108
A1: {=MID(CELL("filename",A1),FIND("]",CELL("filename",A1))+1,255)} -> ISS-108
A4: Drug Code | B4: Drug Name | C4: Concentration (ng/mL)
B5: =IFERROR(VLOOKUP(A5, drugs, 2), "---") -> ---
B6: =IFERROR(VLOOKUP(A6, drugs, 2), "---") -> ---
B7: =IFERROR(VLOOKUP(A7, drugs, 2), "---") -> ---
B8: =IFERROR(VLOOKUP(A8, drugs, 2), "---") -> ---
B9: =IFERROR(VLOOKUP(A9, drugs, 2), "---") -> ---
B10: =IFERROR(VLOOKUP(A10, drugs, 2), "---") -> ---
B11: =IFERROR(VLOOKUP(A11, drugs, 2), "---") -> ---
B12: =IFERROR(VLOOKUP(A12, drugs, 2), "---") -> ---
B13: =IFERROR(VLOOKUP(A13, drugs, 2), "---") -> ---
B14: =IFERROR(VLOOKUP(A14, drugs, 2), "---") -> ---
B15: =IFERROR(VLOOKUP(A15, drugs, 2), "---") -> ---
B16: =IFERROR(VLOOKUP(A16, drugs, 2), "---") -> ---
... B50: =IFERROR(VLOOKUP(A50, drugs, 2), "---") -> ---

Sheet ISS-109
A1: {=MID(CELL("filename",A1),FIND("]",CELL("filename",A1))+1,255)} -> ISS-109
A4: Drug Code | B4: Drug Name | C4: Concentration (ng/mL)
B5: =IFERROR(VLOOKUP(A5, drugs, 2), "---") -> ---
B6: =IFERROR(VLOOKUP(A6, drugs, 2), "---") -> ---
B7: =IFERROR(VLOOKUP(A7, drugs, 2), "---") -> ---
B8: =IFERROR(VLOOKUP(A8, drugs, 2), "---") -> ---
B9: =IFERROR(VLOOKUP(A9, drugs, 2), "---") -> ---
B10: =IFERROR(VLOOKUP(A10, drugs, 2), "---") -> ---
B11: =IFERROR(VLOOKUP(A11, drugs, 2), "---") -> ---
B12: =IFERROR(VLOOKUP(A12, drugs, 2), "---") -> ---
B13: =IFERROR(VLOOKUP(A13, drugs, 2), "---") -> ---
B14: =IFERROR(VLOOKUP(A14, drugs, 2), "---") -> ---
B15: =IFERROR(VLOOKUP(A15, drugs, 2), "---") -> ---
B16: =IFERROR(VLOOKUP(A16, drugs, 2), "---") -> ---
... B50: =IFERROR(VLOOKUP(A50, drugs, 2), "---") -> ---

Sheet ISS-110
A1: {=MID(CELL("filename",A1),FIND("]",CELL("filename",A1))+1,255)} -> ISS-110
A4: Drug Code | B4: Drug Name | C4: Concentration (ng/mL)
B5: =IFERROR(VLOOKUP(A5, drugs, 2), "---") -> ---
B6: =IFERROR(VLOOKUP(A6, drugs, 2), "---") -> ---
B7: =IFERROR(VLOOKUP(A7, drugs, 2), "---") -> ---
B8: =IFERROR(VLOOKUP(A8, drugs, 2), "---") -> ---
B9: =IFERROR(VLOOKUP(A9, drugs, 2), "---") -> ---
B10: =IFERROR(VLOOKUP(A10, drugs, 2), "---") -> ---
B11: =IFERROR(VLOOKUP(A11, drugs, 2), "---") -> ---
B12: =IFERROR(VLOOKUP(A12, drugs, 2), "---") -> ---
B13: =IFERROR(VLOOKUP(A13, drugs, 2), "---") -> ---
B14: =IFERROR(VLOOKUP(A14, drugs, 2), "---") -> ---
B15: =IFERROR(VLOOKUP(A15, drugs, 2), "---") -> ---
B16: =IFERROR(VLOOKUP(A16, drugs, 2), "---") -> ---
... B50: =IFERROR(VLOOKUP(A50, drugs, 2), "---") -> ---

Sheet ISS-111
A1: {=MID(CELL("filename",A1),FIND("]",CELL("filename",A1))+1,255)} -> ISS-111
A4: Drug Code | B4: Drug Name | C4: Concentration (ng/mL)
B5: =IFERROR(VLOOKUP(A5, drugs, 2), "---") -> ---
B6: =IFERROR(VLOOKUP(A6, drugs, 2), "---") -> ---
B7: =IFERROR(VLOOKUP(A7, drugs, 2), "---") -> ---
B8: =IFERROR(VLOOKUP(A8, drugs, 2), "---") -> ---
B9: =IFERROR(VLOOKUP(A9, drugs, 2), "---") -> ---
B10: =IFERROR(VLOOKUP(A10, drugs, 2), "---") -> ---
B11: =IFERROR(VLOOKUP(A11, drugs, 2), "---") -> ---
B12: =IFERROR(VLOOKUP(A12, drugs, 2), "---") -> ---
B13: =IFERROR(VLOOKUP(A13, drugs, 2), "---") -> ---
B14: =IFERROR(VLOOKUP(A14, drugs, 2), "---") -> ---
B15: =IFERROR(VLOOKUP(A15, drugs, 2), "---") -> ---
B16: =IFERROR(VLOOKUP(A16, drugs, 2), "---") -> ---
... B50: =IFERROR(VLOOKUP(A50, drugs, 2), "---") -> ---

Sheet ISS-112
A1: {=MID(CELL("filename",A1),FIND("]",CELL("filename",A1))+1,255)} -> ISS-112
A4: Drug Code | B4: Drug Name | C4: Concentration (ng/mL)
B5: =IFERROR(VLOOKUP(A5, drugs, 2), "---") -> ---
B6: =IFERROR(VLOOKUP(A6, drugs, 2), "---") -> ---
B7: =IFERROR(VLOOKUP(A7, drugs, 2), "---") -> ---
B8: =IFERROR(VLOOKUP(A8, drugs, 2), "---") -> ---
B9: =IFERROR(VLOOKUP(A9, drugs, 2), "---") -> ---
B10: =IFERROR(VLOOKUP(A10, drugs, 2), "---") -> ---
B11: =IFERROR(VLOOKUP(A11, drugs, 2), "---") -> ---
B12: =IFERROR(VLOOKUP(A12, drugs, 2), "---") -> ---
B13: =IFERROR(VLOOKUP(A13, drugs, 2), "---") -> ---
B14: =IFERROR(VLOOKUP(A14, drugs, 2), "---") -> ---
B15: =IFERROR(VLOOKUP(A15, drugs, 2), "---") -> ---
B16: =IFERROR(VLOOKUP(A16, drugs, 2), "---") -> ---
... B50: =IFERROR(VLOOKUP(A50, drugs, 2), "---") -> ---

Sheet ISS-113
A1: {=MID(CELL("filename",A1),FIND("]",CELL("filename",A1))+1,255)} -> ISS-113
A4: Drug Code | B4: Drug Name | C4: Concentration (ng/mL)
B5: =IFERROR(VLOOKUP(A5, drugs, 2), "---") -> ---
B6: =IFERROR(VLOOKUP(A6, drugs, 2), "---") -> ---
B7: =IFERROR(VLOOKUP(A7, drugs, 2), "---") -> ---
B8: =IFERROR(VLOOKUP(A8, drugs, 2), "---") -> ---
B9: =IFERROR(VLOOKUP(A9, drugs, 2), "---") -> ---
B10: =IFERROR(VLOOKUP(A10, drugs, 2), "---") -> ---
B11: =IFERROR(VLOOKUP(A11, drugs, 2), "---") -> ---
B12: =IFERROR(VLOOKUP(A12, drugs, 2), "---") -> ---
B13: =IFERROR(VLOOKUP(A13, drugs, 2), "---") -> ---
B14: =IFERROR(VLOOKUP(A14, drugs, 2), "---") -> ---
B15: =IFERROR(VLOOKUP(A15, drugs, 2), "---") -> ---
B16: =IFERROR(VLOOKUP(A16, drugs, 2), "---") -> ---
... B50: =IFERROR(VLOOKUP(A50, drugs, 2), "---") -> ---

Sheet ISS-114
A1: {=MID(CELL("filename",A1),FIND("]",CELL("filename",A1))+1,255)} -> ISS-114
A4: Drug Code | B4: Drug Name | C4: Concentration (ng/mL)
B5: =IFERROR(VLOOKUP(A5, drugs, 2), "---") -> ---
B6: =IFERROR(VLOOKUP(A6, drugs, 2), "---") -> ---
B7: =IFERROR(VLOOKUP(A7, drugs, 2), "---") -> ---
B8: =IFERROR(VLOOKUP(A8, drugs, 2), "---") -> ---
B9: =IFERROR(VLOOKUP(A9, drugs, 2), "---") -> ---
B10: =IFERROR(VLOOKUP(A10, drugs, 2), "---") -> ---
B11: =IFERROR(VLOOKUP(A11, drugs, 2), "---") -> ---
B12: =IFERROR(VLOOKUP(A12, drugs, 2), "---") -> ---
B13: =IFERROR(VLOOKUP(A13, drugs, 2), "---") -> ---
B14: =IFERROR(VLOOKUP(A14, drugs, 2), "---") -> ---
B15: =IFERROR(VLOOKUP(A15, drugs, 2), "---") -> ---
B16: =IFERROR(VLOOKUP(A16, drugs, 2), "---") -> ---
... B50: =IFERROR(VLOOKUP(A50, drugs, 2), "---") -> ---

Sheet ISS-115
A1: {=MID(CELL("filename",A1),FIND("]",CELL("filename",A1))+1,255)} -> ISS-115
A4: Drug Code | B4: Drug Name | C4: Concentration (ng/mL)
B5: =IFERROR(VLOOKUP(A5, drugs, 2), "---") -> ---
B6: =IFERROR(VLOOKUP(A6, drugs, 2), "---") -> ---
B7: =IFERROR(VLOOKUP(A7, drugs, 2), "---") -> ---
B8: =IFERROR(VLOOKUP(A8, drugs, 2), "---") -> ---
B9: =IFERROR(VLOOKUP(A9, drugs, 2), "---") -> ---
B10: =IFERROR(VLOOKUP(A10, drugs, 2), "---") -> ---
B11: =IFERROR(VLOOKUP(A11, drugs, 2), "---") -> ---
B12: =IFERROR(VLOOKUP(A12, drugs, 2), "---") -> ---
B13: =IFERROR(VLOOKUP(A13, drugs, 2), "---") -> ---
B14: =IFERROR(VLOOKUP(A14, drugs, 2), "---") -> ---
B15: =IFERROR(VLOOKUP(A15, drugs, 2), "---") -> ---
B16: =IFERROR(VLOOKUP(A16, drugs, 2), "---") -> ---
... B50: =IFERROR(VLOOKUP(A50, drugs, 2), "---") -> ---

Sheet ISS-116
A1: {=MID(CELL("filename",A1),FIND("]",CELL("filename",A1))+1,255)} -> ISS-116
A4: Drug Code | B4: Drug Name | C4: Concentration (ng/mL)
B5: =IFERROR(VLOOKUP(A5, drugs, 2), "---") -> ---
B6: =IFERROR(VLOOKUP(A6, drugs, 2), "---") -> ---
B7: =IFERROR(VLOOKUP(A7, drugs, 2), "---") -> ---
B8: =IFERROR(VLOOKUP(A8, drugs, 2), "---") -> ---
B9: =IFERROR(VLOOKUP(A9, drugs, 2), "---") -> ---
B10: =IFERROR(VLOOKUP(A10, drugs, 2), "---") -> ---
B11: =IFERROR(VLOOKUP(A11, drugs, 2), "---") -> ---
B12: =IFERROR(VLOOKUP(A12, drugs, 2), "---") -> ---
B13: =IFERROR(VLOOKUP(A13, drugs, 2), "---") -> ---
B14: =IFERROR(VLOOKUP(A14, drugs, 2), "---") -> ---
B15: =IFERROR(VLOOKUP(A15, drugs, 2), "---") -> ---
B16: =IFERROR(VLOOKUP(A16, drugs, 2), "---") -> ---
... B50: =IFERROR(VLOOKUP(A50, drugs, 2), "---") -> ---

Sheet ISS-117
A1: {=MID(CELL("filename",A1),FIND("]",CELL("filename",A1))+1,255)} -> ISS-117
A4: Drug Code | B4: Drug Name | C4: Concentration (ng/mL)
B5: =IFERROR(VLOOKUP(A5, drugs, 2), "---") -> ---
B6: =IFERROR(VLOOKUP(A6, drugs, 2), "---") -> ---
B7: =IFERROR(VLOOKUP(A7, drugs, 2), "---") -> ---
B8: =IFERROR(VLOOKUP(A8, drugs, 2), "---") -> ---
B9: =IFERROR(VLOOKUP(A9, drugs, 2), "---") -> ---
B10: =IFERROR(VLOOKUP(A10, drugs, 2), "---") -> ---
B11: =IFERROR(VLOOKUP(A11, drugs, 2), "---") -> ---
B12: =IFERROR(VLOOKUP(A12, drugs, 2), "---") -> ---
B13: =IFERROR(VLOOKUP(A13, drugs, 2), "---") -> ---
B14: =IFERROR(VLOOKUP(A14, drugs, 2), "---") -> ---
B15: =IFERROR(VLOOKUP(A15, drugs, 2), "---") -> ---
B16: =IFERROR(VLOOKUP(A16, drugs, 2), "---") -> ---
... B50: =IFERROR(VLOOKUP(A50, drugs, 2), "---") -> ---

Sheet ISS-118
A1: {=MID(CELL("filename",A1),FIND("]",CELL("filename",A1))+1,255)} -> ISS-118
A4: Drug Code | B4: Drug Name | C4: Concentration (ng/mL)
B5: =IFERROR(VLOOKUP(A5, drugs, 2), "---") -> ---
B6: =IFERROR(VLOOKUP(A6, drugs, 2), "---") -> ---
B7: =IFERROR(VLOOKUP(A7, drugs, 2), "---") -> ---
B8: =IFERROR(VLOOKUP(A8, drugs, 2), "---") -> ---
B9: =IFERROR(VLOOKUP(A9, drugs, 2), "---") -> ---
B10: =IFERROR(VLOOKUP(A10, drugs, 2), "---") -> ---
B11: =IFERROR(VLOOKUP(A11, drugs, 2), "---") -> ---
B12: =IFERROR(VLOOKUP(A12, drugs, 2), "---") -> ---
B13: =IFERROR(VLOOKUP(A13, drugs, 2), "---") -> ---
B14: =IFERROR(VLOOKUP(A14, drugs, 2), "---") -> ---
B15: =IFERROR(VLOOKUP(A15, drugs, 2), "---") -> ---
B16: =IFERROR(VLOOKUP(A16, drugs, 2), "---") -> ---
... B50: =IFERROR(VLOOKUP(A50, drugs, 2), "---") -> ---

Sheet ISS-119
A1: {=MID(CELL("filename",A1),FIND("]",CELL("filename",A1))+1,255)} -> ISS-119
A4: Drug Code | B4: Drug Name | C4: Concentration (ng/mL)
B5: =IFERROR(VLOOKUP(A5, drugs, 2), "---") -> ---
B6: =IFERROR(VLOOKUP(A6, drugs, 2), "---") -> ---
B7: =IFERROR(VLOOKUP(A7, drugs, 2), "---") -> ---
B8: =IFERROR(VLOOKUP(A8, drugs, 2), "---") -> ---
B9: =IFERROR(VLOOKUP(A9, drugs, 2), "---") -> ---
B10: =IFERROR(VLOOKUP(A10, drugs, 2), "---") -> ---
B11: =IFERROR(VLOOKUP(A11, drugs, 2), "---") -> ---
B12: =IFERROR(VLOOKUP(A12, drugs, 2), "---") -> ---
B13: =IFERROR(VLOOKUP(A13, drugs, 2), "---") -> ---
B14: =IFERROR(VLOOKUP(A14, drugs, 2), "---") -> ---
B15: =IFERROR(VLOOKUP(A15, drugs, 2), "---") -> ---
B16: =IFERROR(VLOOKUP(A16, drugs, 2), "---") -> ---
... B50: =IFERROR(VLOOKUP(A50, drugs, 2), "---") -> ---

Sheet ISS-120
A1: {=MID(CELL("filename",A1),FIND("]",CELL("filename",A1))+1,255)} -> ISS-120
A4: Drug Code | B4: Drug Name | C4: Concentration (ng/mL)
B5: =IFERROR(VLOOKUP(A5, drugs, 2), "---") -> ---
B6: =IFERROR(VLOOKUP(A6, drugs, 2), "---") -> ---
B7: =IFERROR(VLOOKUP(A7, drugs, 2), "---") -> ---
B8: =IFERROR(VLOOKUP(A8, drugs, 2), "---") -> ---
B9: =IFERROR(VLOOKUP(A9, drugs, 2), "---") -> ---
B10: =IFERROR(VLOOKUP(A10, drugs, 2), "---") -> ---
B11: =IFERROR(VLOOKUP(A11, drugs, 2), "---") -> ---
B12: =IFERROR(VLOOKUP(A12, drugs, 2), "---") -> ---
B13: =IFERROR(VLOOKUP(A13, drugs, 2), "---") -> ---
B14: =IFERROR(VLOOKUP(A14, drugs, 2), "---") -> ---
B15: =IFERROR(VLOOKUP(A15, drugs, 2), "---") -> ---
B16: =IFERROR(VLOOKUP(A16, drugs, 2), "---") -> ---
... B50: =IFERROR(VLOOKUP(A50, drugs, 2), "---") -> ---

Sheet ISS-121
A1: {=MID(CELL("filename",A1),FIND("]",CELL("filename",A1))+1,255)} -> ISS-121
A4: Drug Code | B4: Drug Name | C4: Concentration (ng/mL)
B5: =IFERROR(VLOOKUP(A5, drugs, 2), "---") -> ---
B6: =IFERROR(VLOOKUP(A6, drugs, 2), "---") -> ---
B7: =IFERROR(VLOOKUP(A7, drugs, 2), "---") -> ---
B8: =IFERROR(VLOOKUP(A8, drugs, 2), "---") -> ---
B9: =IFERROR(VLOOKUP(A9, drugs, 2), "---") -> ---
B10: =IFERROR(VLOOKUP(A10, drugs, 2), "---") -> ---
B11: =IFERROR(VLOOKUP(A11, drugs, 2), "---") -> ---
B12: =IFERROR(VLOOKUP(A12, drugs, 2), "---") -> ---
B13: =IFERROR(VLOOKUP(A13, drugs, 2), "---") -> ---
B14: =IFERROR(VLOOKUP(A14, drugs, 2), "---") -> ---
B15: =IFERROR(VLOOKUP(A15, drugs, 2), "---") -> ---
B16: =IFERROR(VLOOKUP(A16, drugs, 2), "---") -> ---
... B50: =IFERROR(VLOOKUP(A50, drugs, 2), "---") -> ---

Sheet Template
A1: {=MID(CELL("filename",A1),FIND("]",CELL("filename",A1))+1,255)} -> Template
A4: Drug Code | B4: Drug Name | C4: Concentration (ng/mL)
B5: =IFERROR(VLOOKUP(A5,Key!$A$13:$B$191,2,FALSE),"---") -> ---
B6: =IFERROR(VLOOKUP(A6,Key!$A$13:$B$191,2,FALSE),"---") -> ---
B7: =IFERROR(VLOOKUP(A7,Key!$A$13:$B$191,2,FALSE),"---") -> ---
B8: =IFERROR(VLOOKUP(A8,Key!$A$13:$B$191,2,FALSE),"---") -> ---
B9: =IFERROR(VLOOKUP(A9,Key!$A$13:$B$191,2,FALSE),"---") -> ---
B10: =IFERROR(VLOOKUP(A10,Key!$A$13:$B$191,2,FALSE),"---") -> ---
B11: =IFERROR(VLOOKUP(A11,Key!$A$13:$B$191,2,FALSE),"---") -> ---
B12: =IFERROR(VLOOKUP(A12,Key!$A$13:$B$191,2,FALSE),"---") -> ---
B13: =IFERROR(VLOOKUP(A13,Key!$A$13:$B$191,2,FALSE),"---") -> ---
B14: =IFERROR(VLOOKUP(A14,Key!$A$13:$B$191,2,FALSE),"---") -> ---
B15: =IFERROR(VLOOKUP(A15,Key!$A$13:$B$191,2,FALSE),"---") -> ---
B16: =IFERROR(VLOOKUP(A16,Key!$A$13:$B$191,2,FALSE),"---") -> ---
... B30: =IFERROR(VLOOKUP(A30,Key!$A$13:$B$191,2,FALSE),"---") -> ---
